Package: aCGH Version: 1.78.0 Command: /Library/Frameworks/R.framework/Resources/bin/R CMD build --keep-empty-dirs --no-resave-data aCGH StartedAt: 2023-10-15 16:38:35 -0400 (Sun, 15 Oct 2023) EndedAt: 2023-10-15 16:39:50 -0400 (Sun, 15 Oct 2023) EllapsedTime: 75.3 seconds RetCode: 0 Status: OK PackageFile: aCGH_1.78.0.tar.gz PackageFileSize: 2.219 MiB