git_url: https://git.bioconductor.org/packages/aCGH git_branch: RELEASE_3_17 git_last_commit: 75df3a4 git_last_commit_date: 2023-04-25 09:40:31 -0400 (Tue, 25 Apr 2023) Package: aCGH Version: 1.78.0 Maintainer: Peter Dimitrov MaintainerEmail: dimitrov at stat.Berkeley.EDU