Package: a4Preproc Version: 1.48.0 Command: chmod a+r a4Preproc -R && F:\biocbuild\bbs-3.17-bioc\R\bin\R.exe CMD build --keep-empty-dirs --no-resave-data a4Preproc StartedAt: 2023-10-15 17:09:44 -0400 (Sun, 15 Oct 2023) EndedAt: 2023-10-15 17:09:58 -0400 (Sun, 15 Oct 2023) EllapsedTime: 14.1 seconds RetCode: 0 Status: OK PackageFile: a4Preproc_1.48.0.tar.gz PackageFileSize: 288.5 KiB