Package: a4Preproc Version: 1.48.0 Command: rm -rf a4Preproc.buildbin-libdir && mkdir a4Preproc.buildbin-libdir && F:\biocbuild\bbs-3.17-bioc\R\bin\R.exe CMD INSTALL --build --library=a4Preproc.buildbin-libdir a4Preproc_1.48.0.tar.gz StartedAt: 2023-10-16 08:23:03 -0400 (Mon, 16 Oct 2023) EndedAt: 2023-10-16 08:23:09 -0400 (Mon, 16 Oct 2023) EllapsedTime: 6.2 seconds RetCode: 0 Status: OK PackageFile: a4Preproc_1.48.0.zip PackageFileSize: 300 KiB