Package: a4Preproc Version: 1.48.0 Command: /home/biocbuild/bbs-3.17-bioc/R/bin/R CMD INSTALL a4Preproc StartedAt: 2023-10-15 15:07:29 -0400 (Sun, 15 Oct 2023) EndedAt: 2023-10-15 15:07:43 -0400 (Sun, 15 Oct 2023) EllapsedTime: 14.7 seconds RetCode: 0 Status: OK