Package: a4Classif Version: 1.48.0 Command: F:\biocbuild\bbs-3.17-bioc\R\bin\R.exe CMD INSTALL a4Classif StartedAt: 2023-10-15 16:40:38 -0400 (Sun, 15 Oct 2023) EndedAt: 2023-10-15 16:40:48 -0400 (Sun, 15 Oct 2023) EllapsedTime: 9.7 seconds RetCode: 0 Status: OK