Package: a4Classif Version: 1.48.0 Command: F:\biocbuild\bbs-3.17-bioc\R\bin\R.exe CMD check --no-multiarch --install=check:a4Classif.install-out.txt --library=F:\biocbuild\bbs-3.17-bioc\R\library --no-vignettes --timings a4Classif_1.48.0.tar.gz StartedAt: 2023-10-15 23:16:09 -0400 (Sun, 15 Oct 2023) EndedAt: 2023-10-15 23:18:15 -0400 (Sun, 15 Oct 2023) EllapsedTime: 126.9 seconds RetCode: 0 Status: OK CheckDir: a4Classif.Rcheck Warnings: 0