Package: a4Classif Version: 1.48.0 Command: chmod a+r a4Classif -R && F:\biocbuild\bbs-3.17-bioc\R\bin\R.exe CMD build --keep-empty-dirs --no-resave-data a4Classif StartedAt: 2023-10-15 17:09:44 -0400 (Sun, 15 Oct 2023) EndedAt: 2023-10-15 17:10:17 -0400 (Sun, 15 Oct 2023) EllapsedTime: 33.0 seconds RetCode: 0 Status: OK PackageFile: a4Classif_1.48.0.tar.gz PackageFileSize: 374.6 KiB