Package: a4Classif Version: 1.48.0 Command: /Library/Frameworks/R.framework/Resources/bin/R CMD INSTALL a4Classif StartedAt: 2023-10-15 16:03:21 -0400 (Sun, 15 Oct 2023) EndedAt: 2023-10-15 16:03:44 -0400 (Sun, 15 Oct 2023) EllapsedTime: 22.9 seconds RetCode: 0 Status: OK