Package: a4Classif Version: 1.48.0 Command: /Library/Frameworks/R.framework/Resources/bin/R CMD check --install=check:a4Classif.install-out.txt --library=/Library/Frameworks/R.framework/Resources/library --no-vignettes --timings a4Classif_1.48.0.tar.gz StartedAt: 2023-10-15 22:21:16 -0400 (Sun, 15 Oct 2023) EndedAt: 2023-10-15 22:24:17 -0400 (Sun, 15 Oct 2023) EllapsedTime: 180.4 seconds RetCode: 0 Status: OK CheckDir: a4Classif.Rcheck Warnings: 0