Package: a4Base Version: 1.48.0 Command: F:\biocbuild\bbs-3.17-bioc\R\bin\R.exe CMD INSTALL a4Base StartedAt: 2023-10-15 16:43:13 -0400 (Sun, 15 Oct 2023) EndedAt: 2023-10-15 16:43:43 -0400 (Sun, 15 Oct 2023) EllapsedTime: 30.0 seconds RetCode: 0 Status: OK