Package: a4Base Version: 1.48.0 Command: rm -rf a4Base.buildbin-libdir && mkdir a4Base.buildbin-libdir && F:\biocbuild\bbs-3.17-bioc\R\bin\R.exe CMD INSTALL --build --library=a4Base.buildbin-libdir a4Base_1.48.0.tar.gz StartedAt: 2023-10-16 08:23:03 -0400 (Mon, 16 Oct 2023) EndedAt: 2023-10-16 08:23:36 -0400 (Mon, 16 Oct 2023) EllapsedTime: 32.5 seconds RetCode: 0 Status: OK PackageFile: a4Base_1.48.0.zip PackageFileSize: 567.5 KiB