Package: a4Base Version: 1.48.0 Command: rm -rf a4Base.buildbin-libdir && mkdir a4Base.buildbin-libdir && /Users/biocbuild/BBS/utils/build-universal.sh a4Base_1.48.0.tar.gz /Library/Frameworks/R.framework/Resources/bin/R a4Base.buildbin-libdir StartedAt: 2023-10-16 08:56:17 -0400 (Mon, 16 Oct 2023) EndedAt: 2023-10-16 08:57:40 -0400 (Mon, 16 Oct 2023) EllapsedTime: 83.2 seconds RetCode: 0 Status: OK PackageFile: a4Base_1.48.0.tgz PackageFileSize: 564.9 KiB