Package: a4 Version: 1.48.0 Command: /home/biocbuild/bbs-3.17-bioc/R/bin/R CMD check --install=check:a4.install-out.txt --library=/home/biocbuild/bbs-3.17-bioc/R/site-library --timings a4_1.48.0.tar.gz StartedAt: 2023-10-15 19:05:11 -0400 (Sun, 15 Oct 2023) EndedAt: 2023-10-15 19:06:21 -0400 (Sun, 15 Oct 2023) EllapsedTime: 70.6 seconds RetCode: 0 Status: WARNINGS CheckDir: a4.Rcheck Warnings: 1