Package: ZygosityPredictor Version: 1.0.3 Command: F:\biocbuild\bbs-3.17-bioc\R\bin\R.exe CMD INSTALL ZygosityPredictor StartedAt: 2023-10-15 16:21:15 -0400 (Sun, 15 Oct 2023) EndedAt: 2023-10-15 16:22:03 -0400 (Sun, 15 Oct 2023) EllapsedTime: 47.9 seconds RetCode: 0 Status: OK