Package: ZygosityPredictor Version: 1.0.3 Command: chmod a+r ZygosityPredictor -R && F:\biocbuild\bbs-3.17-bioc\R\bin\R.exe CMD build --keep-empty-dirs --no-resave-data ZygosityPredictor StartedAt: 2023-10-15 23:09:04 -0400 (Sun, 15 Oct 2023) EndedAt: 2023-10-15 23:10:08 -0400 (Sun, 15 Oct 2023) EllapsedTime: 64.7 seconds RetCode: 0 Status: OK PackageFile: ZygosityPredictor_1.0.3.tar.gz PackageFileSize: 634.5 KiB