Package: ZygosityPredictor Version: 1.0.3 Command: rm -rf ZygosityPredictor.buildbin-libdir && mkdir ZygosityPredictor.buildbin-libdir && F:\biocbuild\bbs-3.17-bioc\R\bin\R.exe CMD INSTALL --build --library=ZygosityPredictor.buildbin-libdir ZygosityPredictor_1.0.3.tar.gz StartedAt: 2023-10-16 09:43:44 -0400 (Mon, 16 Oct 2023) EndedAt: 2023-10-16 09:44:26 -0400 (Mon, 16 Oct 2023) EllapsedTime: 41.9 seconds RetCode: 0 Status: OK PackageFile: ZygosityPredictor_1.0.3.zip PackageFileSize: 721.4 KiB