Package: ZygosityPredictor Version: 1.0.3 Command: /Library/Frameworks/R.framework/Resources/bin/R CMD check --install=check:ZygosityPredictor.install-out.txt --library=/Library/Frameworks/R.framework/Resources/library --no-vignettes --timings ZygosityPredictor_1.0.3.tar.gz StartedAt: 2023-10-16 08:39:13 -0400 (Mon, 16 Oct 2023) EndedAt: 2023-10-16 08:46:14 -0400 (Mon, 16 Oct 2023) EllapsedTime: 420.9 seconds RetCode: 0 Status: OK CheckDir: ZygosityPredictor.Rcheck Warnings: 0