Package: ZygosityPredictor Version: 1.0.3 Command: rm -rf ZygosityPredictor.buildbin-libdir && mkdir ZygosityPredictor.buildbin-libdir && /Users/biocbuild/BBS/utils/build-universal.sh ZygosityPredictor_1.0.3.tar.gz /Library/Frameworks/R.framework/Resources/bin/R ZygosityPredictor.buildbin-libdir StartedAt: 2023-10-16 10:26:04 -0400 (Mon, 16 Oct 2023) EndedAt: 2023-10-16 10:27:12 -0400 (Mon, 16 Oct 2023) EllapsedTime: 68.6 seconds RetCode: 0 Status: OK PackageFile: ZygosityPredictor_1.0.3.tgz PackageFileSize: 713.8 KiB