Package: YAPSA Version: 1.26.8 Command: /home/biocbuild/bbs-3.17-bioc/R/bin/R CMD INSTALL YAPSA StartedAt: 2023-10-15 15:31:49 -0400 (Sun, 15 Oct 2023) EndedAt: 2023-10-15 15:32:48 -0400 (Sun, 15 Oct 2023) EllapsedTime: 59.3 seconds RetCode: 0 Status: OK