Package: YAPSA Version: 1.26.8 Command: /home/biocbuild/bbs-3.17-bioc/R/bin/R CMD build --keep-empty-dirs --no-resave-data YAPSA StartedAt: 2023-10-15 18:57:46 -0400 (Sun, 15 Oct 2023) EndedAt: 2023-10-15 19:01:08 -0400 (Sun, 15 Oct 2023) EllapsedTime: 202.8 seconds RetCode: 0 Status: OK PackageFile: YAPSA_1.26.8.tar.gz PackageFileSize: 3.696 MiB