Package: Xeva Version: 1.16.0 Command: F:\biocbuild\bbs-3.17-bioc\R\bin\R.exe CMD check --no-multiarch --install=check:Xeva.install-out.txt --library=F:\biocbuild\bbs-3.17-bioc\R\library --no-vignettes --timings Xeva_1.16.0.tar.gz StartedAt: 2023-10-16 08:05:55 -0400 (Mon, 16 Oct 2023) EndedAt: 2023-10-16 08:10:01 -0400 (Mon, 16 Oct 2023) EllapsedTime: 245.8 seconds RetCode: 0 Status: OK CheckDir: Xeva.Rcheck Warnings: 0