Package: Xeva Version: 1.16.0 Command: /home/biocbuild/bbs-3.17-bioc/R/bin/R CMD build --keep-empty-dirs --no-resave-data Xeva StartedAt: 2023-10-15 18:57:37 -0400 (Sun, 15 Oct 2023) EndedAt: 2023-10-15 18:58:34 -0400 (Sun, 15 Oct 2023) EllapsedTime: 56.7 seconds RetCode: 0 Status: OK PackageFile: Xeva_1.16.0.tar.gz PackageFileSize: 1.57 MiB