Package: Xeva Version: 1.16.0 Command: /Library/Frameworks/R.framework/Resources/bin/R CMD build --keep-empty-dirs --no-resave-data Xeva StartedAt: 2023-10-15 22:09:27 -0400 (Sun, 15 Oct 2023) EndedAt: 2023-10-15 22:11:46 -0400 (Sun, 15 Oct 2023) EllapsedTime: 139.3 seconds RetCode: 0 Status: OK PackageFile: Xeva_1.16.0.tar.gz PackageFileSize: 1.571 MiB