git_url: https://git.bioconductor.org/packages/Xeva git_branch: RELEASE_3_17 git_last_commit: 7d7444a git_last_commit_date: 2023-04-25 11:08:16 -0400 (Tue, 25 Apr 2023) Package: Xeva Version: 1.16.0 Maintainer: Benjamin Haibe-Kains MaintainerEmail: benjamin.haibe.kains at utoronto.ca