Package: XVector Version: 0.40.0 Command: F:\biocbuild\bbs-3.17-bioc\R\bin\R.exe CMD INSTALL XVector StartedAt: 2023-10-15 15:53:32 -0400 (Sun, 15 Oct 2023) EndedAt: 2023-10-15 15:54:22 -0400 (Sun, 15 Oct 2023) EllapsedTime: 49.8 seconds RetCode: 0 Status: OK