Package: XVector Version: 0.40.0 Command: /home/biocbuild/bbs-3.17-bioc/R/bin/R CMD INSTALL XVector StartedAt: 2023-10-15 15:10:10 -0400 (Sun, 15 Oct 2023) EndedAt: 2023-10-15 15:10:29 -0400 (Sun, 15 Oct 2023) EllapsedTime: 19.5 seconds RetCode: 0 Status: OK