Package: XVector Version: 0.40.0 Command: /home/biocbuild/bbs-3.17-bioc/R/bin/R CMD check --install=check:XVector.install-out.txt --library=/home/biocbuild/bbs-3.17-bioc/R/site-library --timings XVector_0.40.0.tar.gz StartedAt: 2023-10-16 02:10:06 -0400 (Mon, 16 Oct 2023) EndedAt: 2023-10-16 02:11:13 -0400 (Mon, 16 Oct 2023) EllapsedTime: 67.0 seconds RetCode: 0 Status: WARNINGS CheckDir: XVector.Rcheck Warnings: 3