Package: XNAString Version: 1.8.0 Command: F:\biocbuild\bbs-3.17-bioc\R\bin\R.exe CMD INSTALL XNAString StartedAt: 2023-10-15 16:20:54 -0400 (Sun, 15 Oct 2023) EndedAt: 2023-10-15 16:23:22 -0400 (Sun, 15 Oct 2023) EllapsedTime: 147.8 seconds RetCode: 0 Status: OK