Package: XNAString Version: 1.8.0 Command: chmod a+r XNAString -R && F:\biocbuild\bbs-3.17-bioc\R\bin\R.exe CMD build --keep-empty-dirs --no-resave-data XNAString StartedAt: 2023-10-15 23:07:38 -0400 (Sun, 15 Oct 2023) EndedAt: 2023-10-15 23:10:25 -0400 (Sun, 15 Oct 2023) EllapsedTime: 166.8 seconds RetCode: 0 Status: OK PackageFile: XNAString_1.8.0.tar.gz PackageFileSize: 1.629 MiB