Package: XNAString Version: 1.8.0 Command: rm -rf XNAString.buildbin-libdir && mkdir XNAString.buildbin-libdir && F:\biocbuild\bbs-3.17-bioc\R\bin\R.exe CMD INSTALL --build --library=XNAString.buildbin-libdir XNAString_1.8.0.tar.gz StartedAt: 2023-10-16 09:43:21 -0400 (Mon, 16 Oct 2023) EndedAt: 2023-10-16 09:45:22 -0400 (Mon, 16 Oct 2023) EllapsedTime: 120.3 seconds RetCode: 0 Status: OK PackageFile: XNAString_1.8.0.zip PackageFileSize: 1.949 MiB