Package: XNAString Version: 1.8.0 Command: /home/biocbuild/bbs-3.17-bioc/R/bin/R CMD build --keep-empty-dirs --no-resave-data XNAString StartedAt: 2023-10-15 18:57:42 -0400 (Sun, 15 Oct 2023) EndedAt: 2023-10-15 18:59:34 -0400 (Sun, 15 Oct 2023) EllapsedTime: 112.0 seconds RetCode: 0 Status: OK PackageFile: XNAString_1.8.0.tar.gz PackageFileSize: 1.63 MiB