Package: XNAString Version: 1.8.0 Command: /Library/Frameworks/R.framework/Resources/bin/R CMD check --install=check:XNAString.install-out.txt --library=/Library/Frameworks/R.framework/Resources/library --no-vignettes --timings XNAString_1.8.0.tar.gz StartedAt: 2023-10-16 08:37:10 -0400 (Mon, 16 Oct 2023) EndedAt: 2023-10-16 08:46:17 -0400 (Mon, 16 Oct 2023) EllapsedTime: 547.2 seconds RetCode: 0 Status: WARNINGS CheckDir: XNAString.Rcheck Warnings: 2