Package: XNAString Version: 1.8.0 Command: /Library/Frameworks/R.framework/Resources/bin/R CMD build --keep-empty-dirs --no-resave-data XNAString StartedAt: 2023-10-15 22:09:44 -0400 (Sun, 15 Oct 2023) EndedAt: 2023-10-15 22:14:31 -0400 (Sun, 15 Oct 2023) EllapsedTime: 286.3 seconds RetCode: 0 Status: OK PackageFile: XNAString_1.8.0.tar.gz PackageFileSize: 1.63 MiB