Package: XNAString Version: 1.8.0 Command: rm -rf XNAString.buildbin-libdir && mkdir XNAString.buildbin-libdir && /Users/biocbuild/BBS/utils/build-universal.sh XNAString_1.8.0.tar.gz /Library/Frameworks/R.framework/Resources/bin/R XNAString.buildbin-libdir StartedAt: 2023-10-16 10:25:28 -0400 (Mon, 16 Oct 2023) EndedAt: 2023-10-16 10:28:48 -0400 (Mon, 16 Oct 2023) EllapsedTime: 199.8 seconds RetCode: 0 Status: OK PackageFile: XNAString_1.8.0.tgz PackageFileSize: 1.7 MiB