Package: XINA Version: 1.18.0 Command: chmod a+r XINA -R && F:\biocbuild\bbs-3.17-bioc\R\bin\R.exe CMD build --keep-empty-dirs --no-resave-data XINA StartedAt: 2023-10-15 23:07:14 -0400 (Sun, 15 Oct 2023) EndedAt: 2023-10-15 23:08:02 -0400 (Sun, 15 Oct 2023) EllapsedTime: 48.1 seconds RetCode: 0 Status: OK PackageFile: XINA_1.18.0.tar.gz PackageFileSize: 1.102 MiB