Package: XINA Version: 1.18.0 Command: rm -rf XINA.buildbin-libdir && mkdir XINA.buildbin-libdir && F:\biocbuild\bbs-3.17-bioc\R\bin\R.exe CMD INSTALL --build --library=XINA.buildbin-libdir XINA_1.18.0.tar.gz StartedAt: 2023-10-16 09:43:17 -0400 (Mon, 16 Oct 2023) EndedAt: 2023-10-16 09:43:29 -0400 (Mon, 16 Oct 2023) EllapsedTime: 12.1 seconds RetCode: 0 Status: OK PackageFile: XINA_1.18.0.zip PackageFileSize: 1.232 MiB