Package: XINA Version: 1.18.0 Command: /home/biocbuild/bbs-3.17-bioc/R/bin/R CMD build --keep-empty-dirs --no-resave-data XINA StartedAt: 2023-10-15 18:57:40 -0400 (Sun, 15 Oct 2023) EndedAt: 2023-10-15 18:58:09 -0400 (Sun, 15 Oct 2023) EllapsedTime: 28.8 seconds RetCode: 0 Status: OK PackageFile: XINA_1.18.0.tar.gz PackageFileSize: 2.548 MiB