Package: XINA Version: 1.18.0 Command: /Library/Frameworks/R.framework/Resources/bin/R CMD build --keep-empty-dirs --no-resave-data XINA StartedAt: 2023-10-15 22:09:29 -0400 (Sun, 15 Oct 2023) EndedAt: 2023-10-15 22:10:47 -0400 (Sun, 15 Oct 2023) EllapsedTime: 77.9 seconds RetCode: 0 Status: OK PackageFile: XINA_1.18.0.tar.gz PackageFileSize: 2.691 MiB