Package: Wrench Version: 1.18.0 Command: /home/biocbuild/bbs-3.17-bioc/R/bin/R CMD check --install=check:Wrench.install-out.txt --library=/home/biocbuild/bbs-3.17-bioc/R/site-library --timings Wrench_1.18.0.tar.gz StartedAt: 2023-10-16 02:07:30 -0400 (Mon, 16 Oct 2023) EndedAt: 2023-10-16 02:08:52 -0400 (Mon, 16 Oct 2023) EllapsedTime: 82.3 seconds RetCode: 0 Status: OK CheckDir: Wrench.Rcheck Warnings: 0