Package: ViSEAGO Version: 1.14.0 Command: F:\biocbuild\bbs-3.17-bioc\R\bin\R.exe CMD check --no-multiarch --install=check:ViSEAGO.install-out.txt --library=F:\biocbuild\bbs-3.17-bioc\R\library --no-vignettes --timings ViSEAGO_1.14.0.tar.gz StartedAt: 2023-10-16 08:01:04 -0400 (Mon, 16 Oct 2023) EndedAt: 2023-10-16 08:04:18 -0400 (Mon, 16 Oct 2023) EllapsedTime: 193.6 seconds RetCode: 0 Status: WARNINGS CheckDir: ViSEAGO.Rcheck Warnings: 3