Package: ViSEAGO Version: 1.14.0 Command: rm -rf ViSEAGO.buildbin-libdir && mkdir ViSEAGO.buildbin-libdir && F:\biocbuild\bbs-3.17-bioc\R\bin\R.exe CMD INSTALL --build --library=ViSEAGO.buildbin-libdir ViSEAGO_1.14.0.tar.gz StartedAt: 2023-10-16 09:42:30 -0400 (Mon, 16 Oct 2023) EndedAt: 2023-10-16 09:43:15 -0400 (Mon, 16 Oct 2023) EllapsedTime: 45.0 seconds RetCode: 0 Status: OK PackageFile: ViSEAGO_1.14.0.zip PackageFileSize: 9.085 MiB