Package: ViSEAGO Version: 1.14.0 Command: /Library/Frameworks/R.framework/Resources/bin/R CMD check --install=check:ViSEAGO.install-out.txt --library=/Library/Frameworks/R.framework/Resources/library --no-vignettes --timings ViSEAGO_1.14.0.tar.gz StartedAt: 2023-10-16 08:29:32 -0400 (Mon, 16 Oct 2023) EndedAt: 2023-10-16 08:37:35 -0400 (Mon, 16 Oct 2023) EllapsedTime: 482.7 seconds RetCode: 0 Status: WARNINGS CheckDir: ViSEAGO.Rcheck Warnings: 3