Package: ViSEAGO Version: 1.14.0 Command: /Library/Frameworks/R.framework/Resources/bin/R CMD build --keep-empty-dirs --no-resave-data ViSEAGO StartedAt: 2023-10-15 22:05:22 -0400 (Sun, 15 Oct 2023) EndedAt: 2023-10-15 22:07:20 -0400 (Sun, 15 Oct 2023) EllapsedTime: 118.6 seconds RetCode: 0 Status: OK PackageFile: ViSEAGO_1.14.0.tar.gz PackageFileSize: 8.621 MiB