Package: ViSEAGO Version: 1.14.0 Command: rm -rf ViSEAGO.buildbin-libdir && mkdir ViSEAGO.buildbin-libdir && /Users/biocbuild/BBS/utils/build-universal.sh ViSEAGO_1.14.0.tar.gz /Library/Frameworks/R.framework/Resources/bin/R ViSEAGO.buildbin-libdir StartedAt: 2023-10-16 10:24:39 -0400 (Mon, 16 Oct 2023) EndedAt: 2023-10-16 10:26:26 -0400 (Mon, 16 Oct 2023) EllapsedTime: 106.8 seconds RetCode: 0 Status: OK PackageFile: ViSEAGO_1.14.0.tgz PackageFileSize: 9.086 MiB