Package: VennDetail Version: 1.16.0 Command: chmod a+r VennDetail -R && F:\biocbuild\bbs-3.17-bioc\R\bin\R.exe CMD build --keep-empty-dirs --no-resave-data VennDetail StartedAt: 2023-10-15 23:03:20 -0400 (Sun, 15 Oct 2023) EndedAt: 2023-10-15 23:03:35 -0400 (Sun, 15 Oct 2023) EllapsedTime: 15.2 seconds RetCode: 0 Status: OK PackageFile: VennDetail_1.16.0.tar.gz PackageFileSize: 336.7 KiB