Package: VariantTools Version: 1.42.0 Command: rm -rf VariantTools.buildbin-libdir && mkdir VariantTools.buildbin-libdir && /Users/biocbuild/BBS/utils/build-universal.sh VariantTools_1.42.0.tar.gz /Library/Frameworks/R.framework/Resources/bin/R VariantTools.buildbin-libdir StartedAt: 2023-10-16 10:24:16 -0400 (Mon, 16 Oct 2023) EndedAt: 2023-10-16 10:26:25 -0400 (Mon, 16 Oct 2023) EllapsedTime: 129.0 seconds RetCode: 0 Status: OK PackageFile: VariantTools_1.42.0.tgz PackageFileSize: 6.291 MiB