Package: VariantExperiment Version: 1.14.0 Command: /home/biocbuild/bbs-3.17-bioc/R/bin/R CMD INSTALL VariantExperiment StartedAt: 2023-10-15 15:12:06 -0400 (Sun, 15 Oct 2023) EndedAt: 2023-10-15 15:12:28 -0400 (Sun, 15 Oct 2023) EllapsedTime: 22.4 seconds RetCode: 0 Status: OK