Package: VariantExperiment Version: 1.14.0 Command: /home/biocbuild/bbs-3.17-bioc/R/bin/R CMD check --install=check:VariantExperiment.install-out.txt --library=/home/biocbuild/bbs-3.17-bioc/R/site-library --timings VariantExperiment_1.14.0.tar.gz StartedAt: 2023-10-16 02:00:53 -0400 (Mon, 16 Oct 2023) EndedAt: 2023-10-16 02:04:19 -0400 (Mon, 16 Oct 2023) EllapsedTime: 206.7 seconds RetCode: 0 Status: WARNINGS CheckDir: VariantExperiment.Rcheck Warnings: 1