Package: VariantExperiment Version: 1.14.0 Command: rm -rf VariantExperiment.buildbin-libdir && mkdir VariantExperiment.buildbin-libdir && /Users/biocbuild/BBS/utils/build-universal.sh VariantExperiment_1.14.0.tar.gz /Library/Frameworks/R.framework/Resources/bin/R VariantExperiment.buildbin-libdir StartedAt: 2023-10-16 10:24:06 -0400 (Mon, 16 Oct 2023) EndedAt: 2023-10-16 10:25:22 -0400 (Mon, 16 Oct 2023) EllapsedTime: 75.9 seconds RetCode: 0 Status: OK PackageFile: VariantExperiment_1.14.0.tgz PackageFileSize: 407.3 KiB